View In:
ArcGIS JavaScript
ArcGIS Online Map Viewer
ArcGIS Earth
Service Description: Wake County Soils
Name: Imagery/WakeCoSoilSurvey_cache
Description: Wake County Soils
Single Fused Map Cache: false
Extent:
XMin: -8788242.225875676
YMin: 4251871.803030343
XMax: -8763292.70211131
YMax: 4281997.546804031
Spatial Reference: 102100
(3857)
Initial Extent:
XMin: -8788242.225875676
YMin: 4251871.803030343
XMax: -8763292.70211131
YMax: 4281997.546804031
Spatial Reference: 102100
(3857)
Full Extent:
XMin: -8788242.225875676
YMin: 4251871.803030343
XMax: -8763292.70211131
YMax: 4281997.546804031
Spatial Reference: 102100
(3857)
Pixel Size X: 2.388657133974752
Pixel Size Y: 2.388657133974672
Band Count: 3
Pixel Type: U8
RasterFunction Infos: {"rasterFunctionInfos": [{
"name": "None",
"description": "",
"help": ""
}]}
Mensuration Capabilities: Basic
Inspection Capabilities:
Has Histograms: false
Has Colormap: false
Has Multi Dimensions : false
Rendering Rule:
Min Scale: 0
Max Scale: 0
Copyright Text:
Service Data Type: esriImageServiceDataTypeRGB
Min Values: N/A
Max Values: N/A
Mean Values: N/A
Standard Deviation Values: N/A
Object ID Field:
Fields:
None
Default Mosaic Method: Center
Allowed Mosaic Methods:
SortField:
SortValue: null
Mosaic Operator: First
Default Compression Quality: 75
Default Resampling Method: Bilinear
Max Record Count: null
Max Image Height: 4100
Max Image Width: 15000
Max Download Image Count: null
Max Mosaic Image Count: null
Allow Raster Function: true
Allow Copy: true
Allow Analysis: true
Allow Compute TiePoints: false
Supports Statistics: false
Supports Advanced Queries: false
Use StandardizedQueries: true
Raster Type Infos:
Name: Raster Dataset
Description: Supports all ArcGIS Raster Datasets
Help:
Has Raster Attribute Table: false
Edit Fields Info: null
Ownership Based AccessControl For Rasters: null
Child Resources:
Info
Statistics
Key Properties
Legend
Raster Function Infos
Supported Operations:
Export Image
Identify
Measure
Compute Histograms
Compute Statistics Histograms
Get Samples
Compute Class Statistics
Query Boundary
Compute Pixel Location
Compute Angles
Validate
Project