View In:
ArcGIS JavaScript
ArcGIS Online Map Viewer
ArcGIS Earth
Service Description: Orthoimagery in North Carolina captured during leaf-off conditions in early 2021, 6-inch ground resolution, is a public resource provided by North Carolina's Statewide Orthoimagery Program, supported by the NC 911 Board. The state program includes orthoimagery acquired between 2012 and 2021. The products are 4-band (RGB-IR) orthoimagery, 6-inch ground resolution in 5,000 by 5,000-foot tiles.
Range_of_Dates/Times:
Beginning_Date: 20210208
Ending_Date: 20210329
Name: Imagery/Cary2021Aerials
Description: Orthoimagery in North Carolina captured during leaf-off conditions in early 2021, 6-inch ground resolution, is a public resource provided by North Carolina's Statewide Orthoimagery Program, supported by the NC 911 Board. The state program includes orthoimagery acquired between 2012 and 2021. The products are 4-band (RGB-IR) orthoimagery, 6-inch ground resolution in 5,000 by 5,000-foot tiles.
Range_of_Dates/Times:
Beginning_Date: 20210208
Ending_Date: 20210329
Single Fused Map Cache: false
Extent:
XMin: 1980000
YMin: 635000
XMax: 2105000
YMax: 800000
Spatial Reference: 103122
(6543)
Initial Extent:
XMin: 1980000
YMin: 635000
XMax: 2105000
YMax: 800000
Spatial Reference: 103122
(6543)
Full Extent:
XMin: 1980000
YMin: 635000
XMax: 2105000
YMax: 800000
Spatial Reference: 103122
(6543)
Pixel Size X: 0.5
Pixel Size Y: 0.5
Band Count: 3
Pixel Type: U8
RasterFunction Infos: {"rasterFunctionInfos": [{
"name": "None",
"description": "",
"help": ""
}]}
Mensuration Capabilities: Basic
Inspection Capabilities:
Has Histograms: true
Has Colormap: false
Has Multi Dimensions : false
Rendering Rule:
Min Scale: 0
Max Scale: 0
Resampling: false
Copyright Text: State of North Carolina, Town of Cary
Service Data Type: esriImageServiceDataTypeRGB
Min Values: 0, 11, 12
Max Values: 255, 255, 255
Mean Values: 98.469345, 97.709031, 86.322497
Standard Deviation Values: 47.020464748820594, 39.930043456643155, 34.25800552127828
Object ID Field: OBJECTID
Fields:
-
OBJECTID
(
type: esriFieldTypeOID, alias: OBJECTID
)
-
Shape
(
type: esriFieldTypeGeometry, alias: Shape
)
-
Name
(
type: esriFieldTypeString, alias: Name, length: 200
)
-
MinPS
(
type: esriFieldTypeDouble, alias: MinPS
)
-
MaxPS
(
type: esriFieldTypeDouble, alias: MaxPS
)
-
LowPS
(
type: esriFieldTypeDouble, alias: LowPS
)
-
HighPS
(
type: esriFieldTypeDouble, alias: HighPS
)
-
Category
(
type: esriFieldTypeInteger, alias: Category
, Coded Values:
[0: Unknown]
, [1: Primary]
, [2: Overview]
, ...5 more...
)
-
Tag
(
type: esriFieldTypeString, alias: Tag, length: 100
)
-
GroupName
(
type: esriFieldTypeString, alias: GroupName, length: 100
)
-
ProductName
(
type: esriFieldTypeString, alias: ProductName, length: 100
)
-
CenterX
(
type: esriFieldTypeDouble, alias: CenterX
)
-
CenterY
(
type: esriFieldTypeDouble, alias: CenterY
)
-
ZOrder
(
type: esriFieldTypeInteger, alias: ZOrder
)
-
Shape_Length
(
type: esriFieldTypeDouble, alias: Shape_Length
)
-
Shape_Area
(
type: esriFieldTypeDouble, alias: Shape_Area
)
Default Mosaic Method: Northwest
Allowed Mosaic Methods: NorthWest,Center,LockRaster,ByAttribute,Nadir,Viewpoint,Seamline,None
SortField:
SortValue: null
Mosaic Operator: First
Default Compression Quality: 75
Default Resampling Method: Bilinear
Max Record Count: 1000
Max Image Height: 4100
Max Image Width: 15000
Max Download Image Count: 20
Max Mosaic Image Count: 20
Allow Raster Function: true
Allow Copy: true
Allow Analysis: true
Allow Compute TiePoints: false
Supports Statistics: true
Supports Advanced Queries: true
Use StandardizedQueries: true
Raster Type Infos:
Name: Raster Dataset
Description: Supports all ArcGIS Raster Datasets
Help:
Has Raster Attribute Table: false
Edit Fields Info: null
Ownership Based AccessControl For Rasters: null
Child Resources:
Info
Histograms
Statistics
Key Properties
Legend
Raster Function Infos
Supported Operations:
Export Image
Query
Identify
Measure
Compute Histograms
Compute Statistics Histograms
Get Samples
Compute Class Statistics
Query GPS Info
Find Images
Image to Map
Map to Image
Measure from Image
Image to Map Multiray
Query Boundary
Compute Pixel Location
Compute Angles
Validate
Project