{
 "currentVersion": 11.2,
 "serviceDescription": "Aerial Imagery from Town of Cary Drone Aerial Imagery",
 "name": "Imagery/DroneFlights",
 "description": "Aerial Imagery from Town of Cary Drone Aerial Imagery",
 "extent": {
  "xmin": 2057649.9284200014,
  "ymin": 740247.2097200003,
  "xmax": 2066046.3513699998,
  "ymax": 747811.7464999988,
  "spatialReference": {
   "wkid": 102719,
   "latestWkid": 2264
  }
 },
 "initialExtent": {
  "xmin": 2057649.9284200014,
  "ymin": 740247.2097200003,
  "xmax": 2066046.3513699998,
  "ymax": 747811.7464999988,
  "spatialReference": {
   "wkid": 102719,
   "latestWkid": 2264
  }
 },
 "fullExtent": {
  "xmin": 2057649.9284200014,
  "ymin": 740247.2097200003,
  "xmax": 2066046.3513699998,
  "ymax": 747811.7464999988,
  "spatialReference": {
   "wkid": 102719,
   "latestWkid": 2264
  }
 },
 "sortableFields": "",
 "bandCount": 4,
 "pixelType": "U8",
 "minValues": [
  0,
  0,
  0,
  0
 ],
 "maxValues": [
  255,
  255,
  255,
  255
 ],
 "meanValues": [
  116.71040697758343,
  117.11460176294463,
  110.5032430284126,
  219.29509694917155
 ],
 "stdvValues": [
  75.45503865024268,
  74.18245177859319,
  75.51625199991743,
  88.48677970356748
 ],
 "hasMultidimensions": false,
 "pixelSizeX": 0.04772999999999094,
 "pixelSizeY": 0.04772999999999097,
 "meanPixelSize": 0.014548133096263438,
 "datasetFormat": "AMD",
 "uncompressedSize": 111520258760,
 "blockWidth": 2048,
 "blockHeight": 256,
 "compressionType": "None",
 "bandNames": [
  "Band_1",
  "Band_2",
  "Band_3",
  "Band_4"
 ],
 "allowCopy": true,
 "allowAnalysis": true,
 "itemAccess": false,
 "inspectionCapabilities": "",
 "minPixelSize": 0,
 "maxPixelSize": 0,
 "copyrightText": "",
 "serviceDataType": "esriImageServiceDataTypeGeneric",
 "serviceSourceType": "esriImageServiceSourceTypeMosaicDataset",
 "objectIdField": "OBJECTID",
 "fields": [
  {
   "name": "OBJECTID",
   "type": "esriFieldTypeOID",
   "alias": "OBJECTID",
   "domain": null
  },
  {
   "name": "Shape",
   "type": "esriFieldTypeGeometry",
   "alias": "Shape",
   "domain": null
  },
  {
   "name": "Name",
   "type": "esriFieldTypeString",
   "alias": "Name",
   "domain": null,
   "length": 200
  },
  {
   "name": "MinPS",
   "type": "esriFieldTypeDouble",
   "alias": "MinPS",
   "domain": null
  },
  {
   "name": "MaxPS",
   "type": "esriFieldTypeDouble",
   "alias": "MaxPS",
   "domain": null
  },
  {
   "name": "LowPS",
   "type": "esriFieldTypeDouble",
   "alias": "LowPS",
   "domain": null
  },
  {
   "name": "HighPS",
   "type": "esriFieldTypeDouble",
   "alias": "HighPS",
   "domain": null
  },
  {
   "name": "Category",
   "type": "esriFieldTypeInteger",
   "alias": "Category",
   "domain": {
    "type": "codedValue",
    "name": "MosaicCatalogItemCategoryDomain",
    "description": "Catalog item categories.",
    "codedValues": [
     {
      "name": "Unknown",
      "code": 0
     },
     {
      "name": "Primary",
      "code": 1
     },
     {
      "name": "Overview",
      "code": 2
     },
     {
      "name": "Unprocessed Overview",
      "code": 3
     },
     {
      "name": "Partial Overview",
      "code": 4
     },
     {
      "name": "Inactive",
      "code": 5
     },
     {
      "name": "Uploaded",
      "code": 253
     },
     {
      "name": "Incomplete",
      "code": 254
     },
     {
      "name": "Custom",
      "code": 255
     }
    ],
    "mergePolicy": "esriMPTDefaultValue",
    "splitPolicy": "esriSPTDefaultValue"
   }
  },
  {
   "name": "Tag",
   "type": "esriFieldTypeString",
   "alias": "Tag",
   "domain": null,
   "length": 100
  },
  {
   "name": "GroupName",
   "type": "esriFieldTypeString",
   "alias": "GroupName",
   "domain": null,
   "length": 100
  },
  {
   "name": "ProductName",
   "type": "esriFieldTypeString",
   "alias": "ProductName",
   "domain": null,
   "length": 100
  },
  {
   "name": "CenterX",
   "type": "esriFieldTypeDouble",
   "alias": "CenterX",
   "domain": null
  },
  {
   "name": "CenterY",
   "type": "esriFieldTypeDouble",
   "alias": "CenterY",
   "domain": null
  },
  {
   "name": "ZOrder",
   "type": "esriFieldTypeInteger",
   "alias": "ZOrder",
   "domain": null
  },
  {
   "name": "Shape_Length",
   "type": "esriFieldTypeDouble",
   "alias": "Shape_Length",
   "domain": null
  },
  {
   "name": "Shape_Area",
   "type": "esriFieldTypeDouble",
   "alias": "Shape_Area",
   "domain": null
  }
 ],
 "capabilities": "Image,Metadata,Catalog,Mensuration",
 "defaultMosaicMethod": "Northwest",
 "allowedMosaicMethods": "NorthWest,Center,LockRaster,ByAttribute,Nadir,Viewpoint,Seamline,None",
 "sortField": "",
 "sortValue": null,
 "sortAscending": true,
 "mosaicOperator": "First",
 "maxDownloadSizeLimit": 2048,
 "defaultCompressionQuality": 75,
 "defaultResamplingMethod": "Bilinear",
 "maxImageHeight": 4100,
 "maxImageWidth": 15000,
 "maxRecordCount": 1000,
 "maxDownloadImageCount": 20,
 "maxMosaicImageCount": 20,
 "allowRasterFunction": true,
 "rasterFunctionInfos": [
  {
   "name": "None",
   "description": "",
   "help": ""
  }
 ],
 "rasterTypeInfos": [
  {
   "name": "Raster Dataset",
   "description": "Supports all ArcGIS Raster Datasets",
   "help": ""
  }
 ],
 "mensurationCapabilities": "Basic",
 "hasHistograms": true,
 "hasColormap": false,
 "hasRasterAttributeTable": false,
 "minScale": 0,
 "maxScale": 0,
 "exportTilesAllowed": false,
 "supportsStatistics": true,
 "supportsAdvancedQueries": true,
 "editFieldsInfo": null,
 "ownershipBasedAccessControlForRasters": null,
 "allowComputeTiePoints": false,
 "useStandardizedQueries": true,
 "advancedQueryCapabilities": {
  "useStandardizedQueries": true,
  "supportsStatistics": true,
  "supportsOrderBy": true,
  "supportsDistinct": true,
  "supportsPagination": true
 },
 "spatialReference": {
  "wkid": 102719,
  "latestWkid": 2264
 }
}
